BEGIN:VCALENDAR
VERSION:2.0
PRODID:-//সোমা একাডেমি
CALSCALE:GREGORIAN
METHOD:PUBLISH
X-WR-CALNAME:সোমা একাডেমি
X-ORIGINAL-URL:https://academy.somardiary.com/event/inter-class-english-debate-competition-topic-ai-in-education/
X-WR-CALDESC:Inter-Class English Debate Competition (Topic: AI in Education)
BEGIN:VEVENT
DTSTART:20251210T210000
DTEND:20251210T230000
SUMMARY:Inter-Class English Debate Competition (Topic: AI in Education)
DESCRIPTION:
LOCATION:
END:VEVENT
END:VCALENDAR
