BEGIN:VCALENDAR
VERSION:2.0
PRODID:-//সোমা একাডেমি
CALSCALE:GREGORIAN
METHOD:PUBLISH
X-WR-CALNAME:সোমা একাডেমি
X-ORIGINAL-URL:https://academy.somardiary.com/event/kahoot-championship-general-knowledge-edition/
X-WR-CALDESC:Kahoot Championship: General Knowledge Edition
BEGIN:VEVENT
DTSTART:20260420T000000
DTEND:20260420T000000
SUMMARY:Kahoot Championship: General Knowledge Edition
DESCRIPTION:
LOCATION:
END:VEVENT
END:VCALENDAR
