BEGIN:VCALENDAR
VERSION:2.0
PRODID:-//সোমা একাডেমি
CALSCALE:GREGORIAN
METHOD:PUBLISH
X-WR-CALNAME:সোমা একাডেমি
X-ORIGINAL-URL:https://academy.somardiary.com/event/special-math-workshop-shortcuts-for-competitive-exams/
X-WR-CALDESC:Special Math Workshop: Shortcuts for Competitive Exams
BEGIN:VEVENT
DTSTART:20260416T000000
DTEND:20260416T000000
SUMMARY:Special Math Workshop: Shortcuts for Competitive Exams
DESCRIPTION:
LOCATION:
END:VEVENT
END:VCALENDAR
